BEGIN:VCALENDAR
VERSION:2.0
PRODID:-//NHB KT - ECPv6.15.20//NONSGML v1.0//EN
CALSCALE:GREGORIAN
METHOD:PUBLISH
X-WR-CALNAME:NHB KT
X-ORIGINAL-URL:https://nhbkt.org.uk
X-WR-CALDESC:Events for NHB KT
REFRESH-INTERVAL;VALUE=DURATION:PT1H
X-Robots-Tag:noindex
X-PUBLISHED-TTL:PT1H
BEGIN:VTIMEZONE
TZID:Europe/London
BEGIN:DAYLIGHT
TZOFFSETFROM:+0000
TZOFFSETTO:+0100
TZNAME:BST
DTSTART:20250330T010000
END:DAYLIGHT
BEGIN:STANDARD
TZOFFSETFROM:+0100
TZOFFSETTO:+0000
TZNAME:GMT
DTSTART:20251026T010000
END:STANDARD
BEGIN:DAYLIGHT
TZOFFSETFROM:+0000
TZOFFSETTO:+0100
TZNAME:BST
DTSTART:20260329T010000
END:DAYLIGHT
BEGIN:STANDARD
TZOFFSETFROM:+0100
TZOFFSETTO:+0000
TZNAME:GMT
DTSTART:20261025T010000
END:STANDARD
BEGIN:DAYLIGHT
TZOFFSETFROM:+0000
TZOFFSETTO:+0100
TZNAME:BST
DTSTART:20270328T010000
END:DAYLIGHT
BEGIN:STANDARD
TZOFFSETFROM:+0100
TZOFFSETTO:+0000
TZNAME:GMT
DTSTART:20271031T010000
END:STANDARD
END:VTIMEZONE
BEGIN:VEVENT
DTSTART;TZID=Europe/London:20260522T170000
DTEND;TZID=Europe/London:20260522T220000
DTSTAMP:20260421T195326
CREATED:20260322T190642Z
LAST-MODIFIED:20260409T113425Z
UID:2748-1779469200-1779487200@nhbkt.org.uk
SUMMARY:Heritage Preceptory 671
DESCRIPTION:
URL:https://nhbkt.org.uk/event/heritage-preceptory-671-2/
LOCATION:Corby\, Masonic Club\, 27 Rockingham Rd\, Corby\, NN17 1AD\, United Kingdom
ATTACH;FMTTYPE=image/jpeg:https://nhbkt.org.uk/wp-content/uploads/2026/03/corby-doors.jpg
END:VEVENT
BEGIN:VEVENT
DTSTART;TZID=Europe/London:20260522T180000
DTEND;TZID=Europe/London:20260522T220000
DTSTAMP:20260421T195326
CREATED:20260417T160112Z
LAST-MODIFIED:20260417T160112Z
UID:3052-1779472800-1779487200@nhbkt.org.uk
SUMMARY:Hugh de Payens 671
DESCRIPTION:
URL:https://nhbkt.org.uk/event/hugh-de-payens-671/
LOCATION:Luton\, The Pavilion\, Bowling Green Lane\, Luton\, LU2 7HR\, United Kingdom
END:VEVENT
BEGIN:VEVENT
DTSTART;TZID=Europe/London:20260526T180000
DTEND;TZID=Europe/London:20260526T220000
DTSTAMP:20260421T195326
CREATED:20260417T160301Z
LAST-MODIFIED:20260417T160301Z
UID:3054-1779818400-1779832800@nhbkt.org.uk
SUMMARY:St Oswalds 243
DESCRIPTION:
URL:https://nhbkt.org.uk/event/st-oswalds-243/
LOCATION:Peterborough\, Masonic Centre\, 127 Ellindon\, Bretton\, Peterborough\, PE3 8RD\, United Kingdom
END:VEVENT
BEGIN:VEVENT
DTSTART;TZID=Europe/London:20260602T173000
DTEND;TZID=Europe/London:20260602T220000
DTSTAMP:20260421T195326
CREATED:20260417T160612Z
LAST-MODIFIED:20260417T160612Z
UID:3056-1780421400-1780437600@nhbkt.org.uk
SUMMARY:Holy Cross 554
DESCRIPTION:Installation
URL:https://nhbkt.org.uk/event/holy-cross-554/
LOCATION:Daventry\, Masonic Hall\, 14 High Street\, Daventry\, NN11 4HT\, United Kingdom
END:VEVENT
BEGIN:VEVENT
DTSTART;TZID=Europe/London:20260604T173000
DTEND;TZID=Europe/London:20260604T220000
DTSTAMP:20260421T195326
CREATED:20260417T161020Z
LAST-MODIFIED:20260417T161020Z
UID:3058-1780594200-1780610400@nhbkt.org.uk
SUMMARY:Ampthill 260
DESCRIPTION:
URL:https://nhbkt.org.uk/event/ampthill-260-2/
LOCATION:Bedford\, The Keep\, Bedford Road\, Kempston\, Bedford\, MK42 8AJ\, United Kingdom
ATTACH;FMTTYPE=image/jpeg:https://nhbkt.org.uk/wp-content/uploads/2026/03/keep.jpg
END:VEVENT
BEGIN:VEVENT
DTSTART;TZID=Europe/London:20260617T173000
DTEND;TZID=Europe/London:20260617T220000
DTSTAMP:20260421T195326
CREATED:20260417T161239Z
LAST-MODIFIED:20260417T161239Z
UID:3060-1781717400-1781733600@nhbkt.org.uk
SUMMARY:Peter George 572
DESCRIPTION:
URL:https://nhbkt.org.uk/event/peter-george-572/
LOCATION:Rushden\, Masonic Centre\, Wellingborough Road\, Rushden\, NN10 9YJ\, United Kingdom
ATTACH;FMTTYPE=image/jpeg:https://nhbkt.org.uk/wp-content/uploads/2026/03/Rushden.jpg
END:VEVENT
BEGIN:VEVENT
DTSTART;TZID=Europe/London:20260809T120000
DTEND;TZID=Europe/London:20260809T170000
DTSTAMP:20260421T195326
CREATED:20260417T161851Z
LAST-MODIFIED:20260417T161851Z
UID:3062-1786276800-1786294800@nhbkt.org.uk
SUMMARY:Sunday Lunch
DESCRIPTION:
URL:https://nhbkt.org.uk/event/sunday-lunch/
LOCATION:Northampton\, Sheaf Close\, Northampton\, Northants\, NN5 7UL\, United Kingdom
ATTACH;FMTTYPE=image/jpeg:https://nhbkt.org.uk/wp-content/uploads/2026/04/Sheaf-Close.jpg
END:VEVENT
BEGIN:VEVENT
DTSTART;TZID=Europe/London:20260827T180000
DTEND;TZID=Europe/London:20260827T220000
DTSTAMP:20260421T195326
CREATED:20260417T162110Z
LAST-MODIFIED:20260417T162110Z
UID:3065-1787853600-1787868000@nhbkt.org.uk
SUMMARY:George North 610
DESCRIPTION:
URL:https://nhbkt.org.uk/event/george-north-610/
LOCATION:Rushden\, Masonic Centre\, Wellingborough Road\, Rushden\, NN10 9YJ\, United Kingdom
ATTACH;FMTTYPE=image/jpeg:https://nhbkt.org.uk/wp-content/uploads/2026/03/Rushden.jpg
END:VEVENT
END:VCALENDAR