BEGIN:VCALENDAR
VERSION:2.0
PRODID:-//NHB KT - ECPv6.15.20//NONSGML v1.0//EN
CALSCALE:GREGORIAN
METHOD:PUBLISH
X-WR-CALNAME:NHB KT
X-ORIGINAL-URL:https://nhbkt.org.uk
X-WR-CALDESC:Events for NHB KT
REFRESH-INTERVAL;VALUE=DURATION:PT1H
X-Robots-Tag:noindex
X-PUBLISHED-TTL:PT1H
BEGIN:VTIMEZONE
TZID:Europe/London
BEGIN:DAYLIGHT
TZOFFSETFROM:+0000
TZOFFSETTO:+0100
TZNAME:BST
DTSTART:20250330T010000
END:DAYLIGHT
BEGIN:STANDARD
TZOFFSETFROM:+0100
TZOFFSETTO:+0000
TZNAME:GMT
DTSTART:20251026T010000
END:STANDARD
BEGIN:DAYLIGHT
TZOFFSETFROM:+0000
TZOFFSETTO:+0100
TZNAME:BST
DTSTART:20260329T010000
END:DAYLIGHT
BEGIN:STANDARD
TZOFFSETFROM:+0100
TZOFFSETTO:+0000
TZNAME:GMT
DTSTART:20261025T010000
END:STANDARD
BEGIN:DAYLIGHT
TZOFFSETFROM:+0000
TZOFFSETTO:+0100
TZNAME:BST
DTSTART:20270328T010000
END:DAYLIGHT
BEGIN:STANDARD
TZOFFSETFROM:+0100
TZOFFSETTO:+0000
TZNAME:GMT
DTSTART:20271031T010000
END:STANDARD
END:VTIMEZONE
BEGIN:VEVENT
DTSTART;TZID=Europe/London:20260617T173000
DTEND;TZID=Europe/London:20260617T220000
DTSTAMP:20260421T215451
CREATED:20260417T161239Z
LAST-MODIFIED:20260417T161239Z
UID:3060-1781717400-1781733600@nhbkt.org.uk
SUMMARY:Peter George 572
DESCRIPTION:
URL:https://nhbkt.org.uk/event/peter-george-572/
LOCATION:Rushden\, Masonic Centre\, Wellingborough Road\, Rushden\, NN10 9YJ\, United Kingdom
ATTACH;FMTTYPE=image/jpeg:https://nhbkt.org.uk/wp-content/uploads/2026/03/Rushden.jpg
END:VEVENT
BEGIN:VEVENT
DTSTART;TZID=Europe/London:20260809T120000
DTEND;TZID=Europe/London:20260809T170000
DTSTAMP:20260421T215451
CREATED:20260417T161851Z
LAST-MODIFIED:20260417T161851Z
UID:3062-1786276800-1786294800@nhbkt.org.uk
SUMMARY:Sunday Lunch
DESCRIPTION:
URL:https://nhbkt.org.uk/event/sunday-lunch/
LOCATION:Northampton\, Sheaf Close\, Northampton\, Northants\, NN5 7UL\, United Kingdom
ATTACH;FMTTYPE=image/jpeg:https://nhbkt.org.uk/wp-content/uploads/2026/04/Sheaf-Close.jpg
END:VEVENT
BEGIN:VEVENT
DTSTART;TZID=Europe/London:20260827T180000
DTEND;TZID=Europe/London:20260827T220000
DTSTAMP:20260421T215451
CREATED:20260417T162110Z
LAST-MODIFIED:20260417T162110Z
UID:3065-1787853600-1787868000@nhbkt.org.uk
SUMMARY:George North 610
DESCRIPTION:
URL:https://nhbkt.org.uk/event/george-north-610/
LOCATION:Rushden\, Masonic Centre\, Wellingborough Road\, Rushden\, NN10 9YJ\, United Kingdom
ATTACH;FMTTYPE=image/jpeg:https://nhbkt.org.uk/wp-content/uploads/2026/03/Rushden.jpg
END:VEVENT
END:VCALENDAR