BEGIN:VCALENDAR
VERSION:2.0
PRODID:-//NHB KT - ECPv6.15.20//NONSGML v1.0//EN
CALSCALE:GREGORIAN
METHOD:PUBLISH
X-WR-CALNAME:NHB KT
X-ORIGINAL-URL:https://nhbkt.org.uk
X-WR-CALDESC:Events for NHB KT
REFRESH-INTERVAL;VALUE=DURATION:PT1H
X-Robots-Tag:noindex
X-PUBLISHED-TTL:PT1H
BEGIN:VTIMEZONE
TZID:Europe/London
BEGIN:DAYLIGHT
TZOFFSETFROM:+0000
TZOFFSETTO:+0100
TZNAME:BST
DTSTART:20240331T010000
END:DAYLIGHT
BEGIN:STANDARD
TZOFFSETFROM:+0100
TZOFFSETTO:+0000
TZNAME:GMT
DTSTART:20241027T010000
END:STANDARD
BEGIN:DAYLIGHT
TZOFFSETFROM:+0000
TZOFFSETTO:+0100
TZNAME:BST
DTSTART:20250330T010000
END:DAYLIGHT
BEGIN:STANDARD
TZOFFSETFROM:+0100
TZOFFSETTO:+0000
TZNAME:GMT
DTSTART:20251026T010000
END:STANDARD
BEGIN:DAYLIGHT
TZOFFSETFROM:+0000
TZOFFSETTO:+0100
TZNAME:BST
DTSTART:20260329T010000
END:DAYLIGHT
BEGIN:STANDARD
TZOFFSETFROM:+0100
TZOFFSETTO:+0000
TZNAME:GMT
DTSTART:20261025T010000
END:STANDARD
END:VTIMEZONE
BEGIN:VEVENT
DTSTART;TZID=Europe/London:20250412T120000
DTEND;TZID=Europe/London:20250412T170000
DTSTAMP:20260421T221715
CREATED:20241101T104428Z
LAST-MODIFIED:20241101T104428Z
UID:1917-1744459200-1744477200@nhbkt.org.uk
SUMMARY:Provincial Priory
DESCRIPTION:Provincial Priory April 2025
URL:https://nhbkt.org.uk/event/provincial-priory/
LOCATION:Northampton\, Sheaf Close\, Northampton\, Northants\, NN5 7UL\, United Kingdom
CATEGORIES:Provincial Meeting
END:VEVENT
BEGIN:VEVENT
DTSTART;TZID=Europe/London:20250422T190000
DTEND;TZID=Europe/London:20250422T230000
DTSTAMP:20260421T221715
CREATED:20241031T181435Z
LAST-MODIFIED:20241101T205306Z
UID:1856-1745348400-1745362800@nhbkt.org.uk
SUMMARY:United Priors Perceptory 240
DESCRIPTION:United Priors Perceptory 240 April 2025
URL:https://nhbkt.org.uk/event/united-priors-perceptory-240-3/
LOCATION:Huntingdon\, 5 Sovereign Court\, Lancaster Way\, Huntingdon\, PE29 6XU\, United Kingdom
CATEGORIES:Installation Meeting
END:VEVENT
END:VCALENDAR